BEGIN:VCALENDAR
VERSION:2.0
PRODID:-//Rotterdam Bierstad - ECPv6.15.20//NONSGML v1.0//EN
CALSCALE:GREGORIAN
METHOD:PUBLISH
X-WR-CALNAME:Rotterdam Bierstad
X-ORIGINAL-URL:https://rotterdambierstad.nl
X-WR-CALDESC:Evenementen voor Rotterdam Bierstad
REFRESH-INTERVAL;VALUE=DURATION:PT1H
X-Robots-Tag:noindex
X-PUBLISHED-TTL:PT1H
BEGIN:VTIMEZONE
TZID:UTC
BEGIN:STANDARD
TZOFFSETFROM:+0000
TZOFFSETTO:+0000
TZNAME:UTC
DTSTART:20250101T000000
END:STANDARD
END:VTIMEZONE
BEGIN:VEVENT
DTSTART;TZID=UTC:20260507T053000
DTEND;TZID=UTC:20260510T200000
DTSTAMP:20260421T104101
CREATED:20260413T131920Z
LAST-MODIFIED:20260413T134755Z
UID:879-1778131800-1778443200@rotterdambierstad.nl
SUMMARY:Asperge meets Beer
DESCRIPTION:Data: 7\, 8\, 9 en 10 mei \nVier het aspergeseizoen bij Stadshaven Brouwerij met een speciaal 3-gangenmenu waarin asperges en bier samenkomen. Onze chefs hebben klassieke aspergebereidingen gecombineerd met verrassende smaken\, waarbij elk gerecht wordt geserveerd met een perfect gepaird bier uit onze brouwerij. \nVoor\nDrie bereidingen van asperge: \n\nTataki van lamfilet met witte asperge en sinaasappelvinaigrette\nAspergemousse met gerookte zalm\nTempura van groene asperge met wasabi-hangop\n\nHoofd\nWitte asperges met keuze uit: \n\nKabeljauw\nKalfsribeye\n\nGeserveerd met Hollandaise van Limoncello NEIPA en peterselie-roomkrieltjes. \nNa\nOreo-parfait met rabarberconfituur en een pairing met Great White. \nReserveren\nVia stadshavenbrouwerij.nl of per mail via reservations@stadshavenbrouwerij.nl\no.v.v. 10-Daagse / Asperge meets Beer
URL:https://rotterdambierstad.nl/event/asperge-meets-beer/
LOCATION:Stadshaven Brouwerij & Gastropub\, Galileistraat 24\, Rotterdam\, Netherlands
CATEGORIES:Biertiendaagse
END:VEVENT
BEGIN:VEVENT
DTSTART;TZID=UTC:20260507T173000
DTEND;TZID=UTC:20260507T190000
DTSTAMP:20260421T104101
CREATED:20260413T131506Z
LAST-MODIFIED:20260413T131506Z
UID:877-1778175000-1778180400@rotterdambierstad.nl
SUMMARY:Technische Stadshaven Brouwerij Tour met de Brouwer
DESCRIPTION:Voor de echte bierliefhebber organiseren we een technische brouwerijtour onder leiding van onze meesterbrouwer Bas Jacob. \nTijdens deze exclusieve rondleiding duiken we dieper in het brouwproces\, grondstoffen\, receptontwikkeling en technieken die onze bieren hun karakter geven. Uiteraard sluiten we af met een proeverij. \nReserveren\nVia stadshavenbrouwerij.nl of per mail via reservations@stadshavenbrouwerij.nl\no.v.v. 10-Daagse / Technische Brouwerij Tour
URL:https://rotterdambierstad.nl/event/technische-stadshaven-brouwerij-tour-met-de-brouwer/
LOCATION:Stadshaven Brouwerij & Gastropub\, Galileistraat 24\, Rotterdam\, Netherlands
CATEGORIES:Biertiendaagse
END:VEVENT
BEGIN:VEVENT
DTSTART;TZID=UTC:20260508T190000
DTEND;TZID=UTC:20260508T220000
DTSTAMP:20260421T104101
CREATED:20260420T130623Z
LAST-MODIFIED:20260420T130808Z
UID:895-1778266800-1778277600@rotterdambierstad.nl
SUMMARY:Karreman's Mystery Taps 010
DESCRIPTION:Een gezamenlijke avond waarop alle Rotterdamse brouwerijen een eigen mystery bier presenteren. \nOpzet: 14 taps\, 14 brouwerijen\, 14 mystery bieren. \nOp de tapkaart staan alleen nummers van de tap. Aan het einde van de avond worden de brouwers onthuld. \nRaad jij welke bieren je in je glas hebt? \nTickets via Stager: Mystery Taps 010 \n 
URL:https://rotterdambierstad.nl/event/mystery-taps-010/
LOCATION:Brouwerij Noordt\, Zaagmolenkade 46\, Rotterdam\, Netherlands
CATEGORIES:Biertiendaagse
ATTACH;FMTTYPE=image/jpeg:https://rotterdambierstad.nl/wp-content/uploads/2026/04/Karremans-Mystery-taps-010.jpeg
END:VEVENT
BEGIN:VEVENT
DTSTART;TZID=UTC:20260509T120000
DTEND;TZID=UTC:20260509T233000
DTSTAMP:20260421T104101
CREATED:20260413T132548Z
LAST-MODIFIED:20260413T132548Z
UID:883-1778328000-1778369400@rotterdambierstad.nl
SUMMARY:Pelgrim 31 jaar!
DESCRIPTION:Rotterdams oudst nog werkende brouwerij mag dit voorjaar 31 kaarsjes uitblazen en dat is reden voor een feestje! \nNa het succes van vorig jaar opent de Pelgrim op 9 mei wederom haar deuren voor een dag vol muziek\, heerlijk eten en – uiteraard – huisgebrouwen bier. \nKortom\, kom proosten op 31 jaar Pelgrim! \n 
URL:https://rotterdambierstad.nl/event/pelgrim-31-jaar/
LOCATION:Stadsbrouwerij De Pelgrim\, Aelbrechtskolk 12\, Rotterdam\, Netherlands
CATEGORIES:Biertiendaagse
END:VEVENT
BEGIN:VEVENT
DTSTART;TZID=UTC:20260510T140000
DTEND;TZID=UTC:20260510T160000
DTSTAMP:20260421T104101
CREATED:20260413T132217Z
LAST-MODIFIED:20260413T132217Z
UID:881-1778421600-1778428800@rotterdambierstad.nl
SUMMARY:Tour & Tasting Plank Stadshaven
DESCRIPTION:Shifts: 14.00 uur en 16.00 uur \nOntdek de brouwerij tijdens een rondleiding en sluit af met een uitgebreide tasting plank\, perfect gecombineerd met onze bieren. \nDe plank bestaat uit: \n\nBrisket met Carolina-mustardsauce\nMini hamburger\nIbericoham\nTruffelkroketjes\nLoaded chips\n\nReserveren\nVia stadshavenbrouwerij.nl of per mail via reservations@stadshavenbrouwerij.nl\no.v.v. 10-Daagse / Tour & Tasting Plank
URL:https://rotterdambierstad.nl/event/tour-tasting-plank-stadshaven/
LOCATION:Stadshaven Brouwerij & Gastropub\, Galileistraat 24\, Rotterdam\, Netherlands
CATEGORIES:Biertiendaagse
END:VEVENT
BEGIN:VEVENT
DTSTART;TZID=UTC:20260510T170000
DTEND;TZID=UTC:20260510T170000
DTSTAMP:20260421T104101
CREATED:20260420T134158Z
LAST-MODIFIED:20260420T134158Z
UID:903-1778432400-1778432400@rotterdambierstad.nl
SUMMARY:Michael's Pick (Bierproeverij)
DESCRIPTION:In het kader van de Rotterdam Bier 10-daagse zal op zondag 10 mei Michael Pelle zijn favoriete Rotterdamse bieren laten proeven in de winkel van Karreman Biermeesters. Michael is barman bij Haagse Bluf\, een van de oudste speciaalbier cafe’s van Rotterdam. Op instagram is hij bekend als Yoda’s Beerhut waar hij zijn liefde voor Star Wars combineert met bier. We gaan 6 bieren proeven en Karreman zorgt voor snacks. De proeverij kost €25\,- \nScoor hier je Tickets
URL:https://rotterdambierstad.nl/event/michaels-pick-bierproeverij/
LOCATION:Karreman Biermeesters\, Hoogstraat 52A\, Rotterdam\, Netherlands
CATEGORIES:Biertiendaagse
END:VEVENT
BEGIN:VEVENT
DTSTART;TZID=UTC:20260511T173000
DTEND;TZID=UTC:20260511T193000
DTSTAMP:20260421T104101
CREATED:20260420T144610Z
LAST-MODIFIED:20260420T145008Z
UID:905-1778520600-1778527800@rotterdambierstad.nl
SUMMARY:Jelster's Bier & Pannenkoek verjaardag
DESCRIPTION:Mocht jij als kind ook kiezen wat je op je verjaardag at? Kleine Jelster koos vaak voor pannenkoeken. \nEn dat doet ie dit jaar weer! Kom op maandag 11 mei naar de release van de nieuwe MINI MANGO IPA (3\,5%) met bijpassende pannenkoek. \nIk weet het\, het is een maandag en daar past een pannenkoek met een lichter alcoholisch bier uitstekend bij. \nVoor kinderen hebben we een pannenkoek met limonade dus neem ze gerust mee. \nVoor tickets klik je hier ze zijn inclusief een pannenkoek en een Jelster bier of fris/limonade. \nKom tussen 17:30 en 19:30 gezellig langs en vier de 6e verjaardag van Jelster met ons mee! \n  \n 
URL:https://rotterdambierstad.nl/event/jelsters-bier-pannenkoek-verjaardag/
LOCATION:De Nachtegaal Pannenkoekhuis\, Prinses Beatrixlaan 11\, Rotterdam\, 3062CM\, Netherlands
CATEGORIES:Biertiendaagse
END:VEVENT
BEGIN:VEVENT
DTSTART;TZID=UTC:20260515T170000
DTEND;TZID=UTC:20260515T200000
DTSTAMP:20260421T104101
CREATED:20260418T160306Z
LAST-MODIFIED:20260418T160306Z
UID:893-1778864400-1778875200@rotterdambierstad.nl
SUMMARY:Officiële opening van Vessel 11 brewery
DESCRIPTION:Het is zo ver! De brouwerij gaat officieel open. Komt dat vieren met mooie bieren en een DJ\, meer heb je niet nodig.
URL:https://rotterdambierstad.nl/event/officiele-opening-van-vessel-11-brewery/
LOCATION:Vessel 11\, Wijnhaven 101\, Rotterdam\, Netherlands
CATEGORIES:Biertiendaagse
END:VEVENT
BEGIN:VEVENT
DTSTART;TZID=UTC:20260515T200000
DTEND;TZID=UTC:20260515T223000
DTSTAMP:20260421T104101
CREATED:20260413T133057Z
LAST-MODIFIED:20260413T133057Z
UID:885-1778875200-1778884200@rotterdambierstad.nl
SUMMARY:Homebrew Bottleshare
DESCRIPTION:Alle amateurbrouwers van Rotterdam eo worden uitgenodigd om samen met de leden van de Rotterdamse Brouwvereniging hun bieren te delen en te proeven. \nKom langs\, neem je zelf gebrouwen bier mee en ontvang waardevolle feedback tijdens deze gezellige avond. \nGeïnteresseerden moeten zich wel even aanmelden: Bestuur@brouwvereniging.nl
URL:https://rotterdambierstad.nl/event/homebrew-bottleshare/
LOCATION:Brouwvereniging Rotterdam (B46 – Collectief van Makers)\, Burgemeester Bosstraat 46\, Rotterdam\, Netherlands
CATEGORIES:Biertiendaagse
END:VEVENT
BEGIN:VEVENT
DTSTART;TZID=UTC:20260516T103000
DTEND;TZID=UTC:20260516T173000
DTSTAMP:20260421T104101
CREATED:20260413T133712Z
LAST-MODIFIED:20260413T133712Z
UID:887-1778927400-1778952600@rotterdambierstad.nl
SUMMARY:Rotterdam Bier Experience Wandeltocht van Noordt naar Kaapse
DESCRIPTION:Wandeling onder leiding van biersommelier Maarten Exel \nDe start is in Rotterdam Noord\, we proeven bier bij brouwerij Noordt\, vervolgen onze weg naar oudste cafe van Rotterdam: Timmer\, daarna doen we proeflokaal Reijngoud aan en op Vessel 11 waar ook gebrouwen wordt\, krijgen je lunch en hun bier te proeven. Dan gaan we naar Tropicana niet om te zwemmen maar om ons te laven aan bier van Vet & Lazy en een rondleiding. Tot slot gaan we naar de nieuwe locatie De Kaai van Kaapse Brouwers aan de overkant van de Maas.
URL:https://rotterdambierstad.nl/event/rotterdam-bier-experience-wandeltocht-van-noordt-naar-kaapse/
LOCATION:Brouwerij Noordt\, Zaagmolenkade 46\, Rotterdam\, Netherlands
CATEGORIES:Biertiendaagse
END:VEVENT
BEGIN:VEVENT
DTSTART;TZID=UTC:20260516T140000
DTEND;TZID=UTC:20260516T180000
DTSTAMP:20260421T104101
CREATED:20260413T134140Z
LAST-MODIFIED:20260413T134140Z
UID:889-1778940000-1778954400@rotterdambierstad.nl
SUMMARY:Rondleiding brouwerij Vet & Lazy
DESCRIPTION:Benieuwd hoe de Vet & Lazy brouwerij er uit ziet? Of heimwee naar het oude Tropicana zwemparadijs? \nDan zien we je graag op 16 mei. \nPer hele uur (14.00 tot 18.00 uur) vertrekt er een rondleiding door het oude Tropicana & brouwerij. \nDit wordt opgevolgd door een kleine proeverij van 5 van onze bieren. \nMelden aan de bar voor het hele uur\, betalen en genieten!! \n  \n 
URL:https://rotterdambierstad.nl/event/rondleiding-brouwerij-vet-lazy/
LOCATION:Vet & Lazy Bierkaai\, Maasboulevard 100\, Rotterdam\, Netherlands
CATEGORIES:Biertiendaagse
END:VEVENT
END:VCALENDAR