BEGIN:VCALENDAR
VERSION:2.0
PRODID:-//Rotterdam Bierstad - ECPv6.15.20//NONSGML v1.0//EN
CALSCALE:GREGORIAN
METHOD:PUBLISH
X-WR-CALNAME:Rotterdam Bierstad
X-ORIGINAL-URL:https://rotterdambierstad.nl
X-WR-CALDESC:Evenementen voor Rotterdam Bierstad
REFRESH-INTERVAL;VALUE=DURATION:PT1H
X-Robots-Tag:noindex
X-PUBLISHED-TTL:PT1H
BEGIN:VTIMEZONE
TZID:UTC
BEGIN:STANDARD
TZOFFSETFROM:+0000
TZOFFSETTO:+0000
TZNAME:UTC
DTSTART:20250101T000000
END:STANDARD
END:VTIMEZONE
BEGIN:VEVENT
DTSTART;TZID=UTC:20260507T053000
DTEND;TZID=UTC:20260510T200000
DTSTAMP:20260423T124313
CREATED:20260413T131920Z
LAST-MODIFIED:20260413T134755Z
UID:879-1778131800-1778443200@rotterdambierstad.nl
SUMMARY:Asperge meets Beer
DESCRIPTION:Data: 7\, 8\, 9 en 10 mei \nVier het aspergeseizoen bij Stadshaven Brouwerij met een speciaal 3-gangenmenu waarin asperges en bier samenkomen. Onze chefs hebben klassieke aspergebereidingen gecombineerd met verrassende smaken\, waarbij elk gerecht wordt geserveerd met een perfect gepaird bier uit onze brouwerij. \nVoor\nDrie bereidingen van asperge: \n\nTataki van lamfilet met witte asperge en sinaasappelvinaigrette\nAspergemousse met gerookte zalm\nTempura van groene asperge met wasabi-hangop\n\nHoofd\nWitte asperges met keuze uit: \n\nKabeljauw\nKalfsribeye\n\nGeserveerd met Hollandaise van Limoncello NEIPA en peterselie-roomkrieltjes. \nNa\nOreo-parfait met rabarberconfituur en een pairing met Great White. \nReserveren\nVia stadshavenbrouwerij.nl of per mail via reservations@stadshavenbrouwerij.nl\no.v.v. 10-Daagse / Asperge meets Beer
URL:https://rotterdambierstad.nl/event/asperge-meets-beer/
LOCATION:Stadshaven Brouwerij & Gastropub\, Galileistraat 24\, Rotterdam\, Netherlands
CATEGORIES:Biertiendaagse
END:VEVENT
END:VCALENDAR