BEGIN:VCALENDAR
VERSION:2.0
PRODID:-//Rotterdam Bierstad - ECPv6.15.20//NONSGML v1.0//EN
CALSCALE:GREGORIAN
METHOD:PUBLISH
X-WR-CALNAME:Rotterdam Bierstad
X-ORIGINAL-URL:https://rotterdambierstad.nl
X-WR-CALDESC:Evenementen voor Rotterdam Bierstad
REFRESH-INTERVAL;VALUE=DURATION:PT1H
X-Robots-Tag:noindex
X-PUBLISHED-TTL:PT1H
BEGIN:VTIMEZONE
TZID:UTC
BEGIN:STANDARD
TZOFFSETFROM:+0000
TZOFFSETTO:+0000
TZNAME:UTC
DTSTART:20250101T000000
END:STANDARD
END:VTIMEZONE
BEGIN:VEVENT
DTSTART;TZID=UTC:20260511T173000
DTEND;TZID=UTC:20260511T193000
DTSTAMP:20260423T123352
CREATED:20260420T144610Z
LAST-MODIFIED:20260420T145008Z
UID:905-1778520600-1778527800@rotterdambierstad.nl
SUMMARY:Jelster's Bier & Pannenkoek verjaardag
DESCRIPTION:Mocht jij als kind ook kiezen wat je op je verjaardag at? Kleine Jelster koos vaak voor pannenkoeken. \nEn dat doet ie dit jaar weer! Kom op maandag 11 mei naar de release van de nieuwe MINI MANGO IPA (3\,5%) met bijpassende pannenkoek. \nIk weet het\, het is een maandag en daar past een pannenkoek met een lichter alcoholisch bier uitstekend bij. \nVoor kinderen hebben we een pannenkoek met limonade dus neem ze gerust mee. \nVoor tickets klik je hier ze zijn inclusief een pannenkoek en een Jelster bier of fris/limonade. \nKom tussen 17:30 en 19:30 gezellig langs en vier de 6e verjaardag van Jelster met ons mee! \n  \n 
URL:https://rotterdambierstad.nl/event/jelsters-bier-pannenkoek-verjaardag/
LOCATION:De Nachtegaal Pannenkoekhuis\, Prinses Beatrixlaan 11\, Rotterdam\, 3062CM\, Netherlands
CATEGORIES:Biertiendaagse
END:VEVENT
END:VCALENDAR