BEGIN:VCALENDAR
VERSION:2.0
PRODID:-//Rotterdam Bierstad - ECPv6.15.20//NONSGML v1.0//EN
CALSCALE:GREGORIAN
METHOD:PUBLISH
X-ORIGINAL-URL:https://rotterdambierstad.nl
X-WR-CALDESC:Evenementen voor Rotterdam Bierstad
REFRESH-INTERVAL;VALUE=DURATION:PT1H
X-Robots-Tag:noindex
X-PUBLISHED-TTL:PT1H
BEGIN:VTIMEZONE
TZID:UTC
BEGIN:STANDARD
TZOFFSETFROM:+0000
TZOFFSETTO:+0000
TZNAME:UTC
DTSTART:20250101T000000
END:STANDARD
END:VTIMEZONE
BEGIN:VEVENT
DTSTART;TZID=UTC:20260507T193000
DTEND;TZID=UTC:20260507T220000
DTSTAMP:20260423T142220
CREATED:20260423T072419Z
LAST-MODIFIED:20260423T072528Z
UID:914-1778182200-1778191200@rotterdambierstad.nl
SUMMARY:Brewery Run
DESCRIPTION:Run at your own pace with a like minded group a 7K course. Have a tasty beer before the start at well know Rotterdam hotspot Cafe van Zanten\, run 2\,3k\, taste a special beer at on of Rotterdams finest pubs\, run 2\,3k\, have another craft beer\,  and run the last 2\,4k with a nice cold one waiting for you at the finish at van Zanten off course with an epic afterparty. Along the course\, besides the pubs… you will see some of the Rotterdam City icons such as the Markthal\, the Binnenweg\, gnome Buttplug and much more. Off course there will be a party with all your fellow runners at the finish! \nProgram \n19:30 Start Group 1\n20:00 Start Group 2\n20:30 Start Group 3\n22:00 All particpants back at van Zanten for a cheers and lot’s of fun!\nParty until…….. \nIncluded in your entree fee \n– A 7k running route through Rotterdam\n– 4 special beers at 3 different bars\n– Brewery Run medal\n– Photos\n– Flower necklace\n– Lot’s of fun and meeting new people! \nTickets: Brewery Run
URL:https://rotterdambierstad.nl/event/brewery-run/
LOCATION:Café van Zanten\, Meent 44\, Rotterdam\, Netherlands
CATEGORIES:Biertiendaagse
END:VEVENT
END:VCALENDAR