BEGIN:VCALENDAR
VERSION:2.0
PRODID:-//Rotterdam Bierstad - ECPv6.15.20//NONSGML v1.0//EN
CALSCALE:GREGORIAN
METHOD:PUBLISH
X-ORIGINAL-URL:https://rotterdambierstad.nl
X-WR-CALDESC:Evenementen voor Rotterdam Bierstad
REFRESH-INTERVAL;VALUE=DURATION:PT1H
X-Robots-Tag:noindex
X-PUBLISHED-TTL:PT1H
BEGIN:VTIMEZONE
TZID:UTC
BEGIN:STANDARD
TZOFFSETFROM:+0000
TZOFFSETTO:+0000
TZNAME:UTC
DTSTART:20250101T000000
END:STANDARD
END:VTIMEZONE
BEGIN:VEVENT
DTSTART;TZID=UTC:20260516T103000
DTEND;TZID=UTC:20260516T173000
DTSTAMP:20260423T123924
CREATED:20260413T133712Z
LAST-MODIFIED:20260413T133712Z
UID:887-1778927400-1778952600@rotterdambierstad.nl
SUMMARY:Rotterdam Bier Experience Wandeltocht van Noordt naar Kaapse
DESCRIPTION:Wandeling onder leiding van biersommelier Maarten Exel \nDe start is in Rotterdam Noord\, we proeven bier bij brouwerij Noordt\, vervolgen onze weg naar oudste cafe van Rotterdam: Timmer\, daarna doen we proeflokaal Reijngoud aan en op Vessel 11 waar ook gebrouwen wordt\, krijgen je lunch en hun bier te proeven. Dan gaan we naar Tropicana niet om te zwemmen maar om ons te laven aan bier van Vet & Lazy en een rondleiding. Tot slot gaan we naar de nieuwe locatie De Kaai van Kaapse Brouwers aan de overkant van de Maas.
URL:https://rotterdambierstad.nl/event/rotterdam-bier-experience-wandeltocht-van-noordt-naar-kaapse/
LOCATION:Brouwerij Noordt\, Zaagmolenkade 46\, Rotterdam\, Netherlands
CATEGORIES:Biertiendaagse
END:VEVENT
END:VCALENDAR