BEGIN:VCALENDAR
VERSION:2.0
PRODID:-//Rotterdam Bierstad - ECPv6.15.20//NONSGML v1.0//EN
CALSCALE:GREGORIAN
METHOD:PUBLISH
X-ORIGINAL-URL:https://rotterdambierstad.nl
X-WR-CALDESC:Evenementen voor Rotterdam Bierstad
REFRESH-INTERVAL;VALUE=DURATION:PT1H
X-Robots-Tag:noindex
X-PUBLISHED-TTL:PT1H
BEGIN:VTIMEZONE
TZID:UTC
BEGIN:STANDARD
TZOFFSETFROM:+0000
TZOFFSETTO:+0000
TZNAME:UTC
DTSTART:20250101T000000
END:STANDARD
END:VTIMEZONE
BEGIN:VEVENT
DTSTART;TZID=UTC:20260508T180000
DTEND;TZID=UTC:20260508T230000
DTSTAMP:20260423T143902
CREATED:20260423T081900Z
LAST-MODIFIED:20260423T081900Z
UID:924-1778263200-1778281200@rotterdambierstad.nl
SUMMARY:Reijngoud lanceringsparty lente bier: Spring is in de lucht
DESCRIPTION:Lancering van ons lentebier Spring is in de Lucht. Met een dj\, lekker eten en een hoop gezelligheid. \nGratis entree dus kom langs en spring gezellig mee. \n 
URL:https://rotterdambierstad.nl/event/reijngoud-lanceringsparty-lente-bier-spring-is-in-de-lucht/
LOCATION:Brewpub Reijngoud\, Vijverhofstraat 10\, Rotterdam\, Netherlands
CATEGORIES:Biertiendaagse
END:VEVENT
END:VCALENDAR