BEGIN:VCALENDAR
VERSION:2.0
PRODID:-//Rotterdam Bierstad - ECPv6.15.20//NONSGML v1.0//EN
CALSCALE:GREGORIAN
METHOD:PUBLISH
X-ORIGINAL-URL:https://rotterdambierstad.nl
X-WR-CALDESC:Evenementen voor Rotterdam Bierstad
REFRESH-INTERVAL;VALUE=DURATION:PT1H
X-Robots-Tag:noindex
X-PUBLISHED-TTL:PT1H
BEGIN:VTIMEZONE
TZID:UTC
BEGIN:STANDARD
TZOFFSETFROM:+0000
TZOFFSETTO:+0000
TZNAME:UTC
DTSTART:20250101T000000
END:STANDARD
END:VTIMEZONE
BEGIN:VEVENT
DTSTART;TZID=UTC:20260514T140000
DTEND;TZID=UTC:20260514T210000
DTSTAMP:20260423T142110
CREATED:20260423T084305Z
LAST-MODIFIED:20260423T090253Z
UID:929-1778767200-1778792400@rotterdambierstad.nl
SUMMARY:Melief Bender 150 jaar
DESCRIPTION:Op 14 mei 2026 is het feest! \nCafé H.J. Melief Bender is het oudste café van Rotterdam. Dit jaar (2026) bestaat het 150 jaar. In 1876 opende de weduwe Th. Bastiaanse een tapperij aan de Binneweg122 (sinds 1977 Oude Binnenweg genoemd). Het dranklokaal zou uitgroeien tot een van de bekendste cafés van de stad. \nAl 150 jaar een begrip en dat vieren we zoals het hoort: met goede muziek\, ijs­koude\, perfect getapte biertjes en een sfeer waar je spontaan langer voor blijft hangen.
URL:https://rotterdambierstad.nl/event/melief-bender-150-jaar/
LOCATION:Melief Bender\, Oude Binnenweg 134\, Rotterdam\, Netherlands
CATEGORIES:Biertiendaagse
END:VEVENT
END:VCALENDAR