BEGIN:VCALENDAR
VERSION:2.0
PRODID:-//Rotterdam Bierstad - ECPv6.15.20//NONSGML v1.0//EN
CALSCALE:GREGORIAN
METHOD:PUBLISH
X-WR-CALNAME:Rotterdam Bierstad
X-ORIGINAL-URL:https://rotterdambierstad.nl
X-WR-CALDESC:Evenementen voor Rotterdam Bierstad
REFRESH-INTERVAL;VALUE=DURATION:PT1H
X-Robots-Tag:noindex
X-PUBLISHED-TTL:PT1H
BEGIN:VTIMEZONE
TZID:UTC
BEGIN:STANDARD
TZOFFSETFROM:+0000
TZOFFSETTO:+0000
TZNAME:UTC
DTSTART:20250101T000000
END:STANDARD
END:VTIMEZONE
BEGIN:VEVENT
DTSTART;TZID=UTC:20260516T130000
DTEND;TZID=UTC:20260516T230000
DTSTAMP:20260423T143954
CREATED:20260423T070758Z
LAST-MODIFIED:20260423T070758Z
UID:911-1778936400-1778972400@rotterdambierstad.nl
SUMMARY:Kaapse 12th Anniversary Festival
DESCRIPTION:Naast het vieren van het twaalfjarig bestaan opent Kaapse Brouwers ook de deuren van hun splinternieuwe brouwerij. Bezoekers kunnen tijdens dit speciaalbier festival niet alleen proeven van unieke bieren\, maar ook een kijkje nemen achter de schermen van de productie. \nMet het ticket krijg je niet alleen toegang tot het festival\, maar ook je eigen glas en een gratis muntje. En fantastisch gezelschap natuurlijk! Zien we je daar? \nDatum: 16 mei\nTijden: 13:00 – 23:00\nLocatie: Nassaukade 3\, Rotterdam \nHeb je nog vragen? Stuur dan een e-mail naar: cheers@kaapsebrouwers.nl \nTickets: Kaapse Anniversary #12 | Kaapse Brouwers \n  \n 
URL:https://rotterdambierstad.nl/event/kaapse-12th-anniversary-festival/
LOCATION:Kaapse brouwers Nassaukade\, Nassaukade 3\, Rotterdam\, Netherlands
CATEGORIES:Biertiendaagse
END:VEVENT
END:VCALENDAR