BEGIN:VCALENDAR
VERSION:2.0
PRODID:-//Rotterdam Bierstad - ECPv6.15.20//NONSGML v1.0//EN
CALSCALE:GREGORIAN
METHOD:PUBLISH
X-WR-CALNAME:Rotterdam Bierstad
X-ORIGINAL-URL:https://rotterdambierstad.nl
X-WR-CALDESC:Evenementen voor Rotterdam Bierstad
REFRESH-INTERVAL;VALUE=DURATION:PT1H
X-Robots-Tag:noindex
X-PUBLISHED-TTL:PT1H
BEGIN:VTIMEZONE
TZID:UTC
BEGIN:STANDARD
TZOFFSETFROM:+0000
TZOFFSETTO:+0000
TZNAME:UTC
DTSTART:20250101T000000
END:STANDARD
END:VTIMEZONE
BEGIN:VEVENT
DTSTART;TZID=UTC:20260509T120000
DTEND;TZID=UTC:20260509T233000
DTSTAMP:20260423T123501
CREATED:20260413T132548Z
LAST-MODIFIED:20260413T132548Z
UID:883-1778328000-1778369400@rotterdambierstad.nl
SUMMARY:Pelgrim 31 jaar!
DESCRIPTION:Rotterdams oudst nog werkende brouwerij mag dit voorjaar 31 kaarsjes uitblazen en dat is reden voor een feestje! \nNa het succes van vorig jaar opent de Pelgrim op 9 mei wederom haar deuren voor een dag vol muziek\, heerlijk eten en – uiteraard – huisgebrouwen bier. \nKortom\, kom proosten op 31 jaar Pelgrim! \n 
URL:https://rotterdambierstad.nl/event/pelgrim-31-jaar/
LOCATION:Stadsbrouwerij De Pelgrim\, Aelbrechtskolk 12\, Rotterdam\, Netherlands
CATEGORIES:Biertiendaagse
END:VEVENT
BEGIN:VEVENT
DTSTART;TZID=UTC:20260510T140000
DTEND;TZID=UTC:20260510T160000
DTSTAMP:20260423T123501
CREATED:20260423T075708Z
LAST-MODIFIED:20260423T075708Z
UID:919-1778421600-1778428800@rotterdambierstad.nl
SUMMARY:Rondleiding Pelgrim brouwerij
DESCRIPTION:Tijdens de rondleiding krijg je uitleg over de achtergronden van Stadsbrouwerij de Pelgrim\, de historie van Delfshaven\, de Pelgrimvaders en natuurlijk het brouwproces. \nHet duurt ongeveer 30 minuutjes en kost 2\,50 per persoon. \nAchteraf is het mogelijk in het Proeflokaal of – bij lekker weer – het terras Pelgrimbieren te proeven. \nTickets haal je hier \n  \n 
URL:https://rotterdambierstad.nl/event/rondleiding-pelgrim-brouwerij/
LOCATION:Stadsbrouwerij De Pelgrim\, Aelbrechtskolk 12\, Rotterdam\, Netherlands
CATEGORIES:Biertiendaagse
END:VEVENT
END:VCALENDAR