BEGIN:VCALENDAR
VERSION:2.0
PRODID:-//Rotterdam Bierstad - ECPv6.15.20//NONSGML v1.0//EN
CALSCALE:GREGORIAN
METHOD:PUBLISH
X-WR-CALNAME:Rotterdam Bierstad
X-ORIGINAL-URL:https://rotterdambierstad.nl
X-WR-CALDESC:Evenementen voor Rotterdam Bierstad
REFRESH-INTERVAL;VALUE=DURATION:PT1H
X-Robots-Tag:noindex
X-PUBLISHED-TTL:PT1H
BEGIN:VTIMEZONE
TZID:UTC
BEGIN:STANDARD
TZOFFSETFROM:+0000
TZOFFSETTO:+0000
TZNAME:UTC
DTSTART:20240101T000000
END:STANDARD
END:VTIMEZONE
BEGIN:VEVENT
DTSTART;TZID=UTC:20260207T150000
DTEND;TZID=UTC:20260207T230000
DTSTAMP:20260423T162645
CREATED:20251202T130222Z
LAST-MODIFIED:20251208T135052Z
UID:854-1770476400-1770505200@rotterdambierstad.nl
SUMMARY:Rotterdam Beerfest 2026
DESCRIPTION:Na het succes van vorig jaar keert Rotterdam Beerfest terug op 7 februari 2026. Opnieuw brengt Rotterdam Bierstad 14 Rotterdamse brouwerijen onder één dak bij Stadshaven Brouwerij\, waar Rotterdam’s finest brews\, food & music samenkomen. \nWat kun je verwachten \n\n14 Rotterdamse brouwerijen\nElke brouwerij presenteert een klassieker én een nieuw bier\nAlcoholvrije opties beschikbaar\nMuziek en foodtrucks\nGezellige festivalervaring\n\nTickets \nTickets zijn nu verkrijgbaar. Early Bird-tickets kosten € 15\,00 en Regular tickets € 17\,50 (beide exclusief € 1\,50 servicekosten). Bij elk ticket zijn 4 munten en een festivalglas inbegrepen. Er zijn slechts 250 Early Bird-tickets beschikbaar\, dus wees er snel bij. OP = OP! \nDetails \nDatum: 7 februari 2026\nTijd: 15:00-23:00 uur\nLocatie: Stadshaven Brouwerij\, Rotterdam
URL:https://rotterdambierstad.nl/event/beerfest-2026/
LOCATION:Stadshaven Brouwerij & Gastropub\, Galileistraat 24\, Rotterdam\, Netherlands
ATTACH;FMTTYPE=image/png:https://rotterdambierstad.nl/wp-content/uploads/2025/12/Vierkant-1.png
END:VEVENT
BEGIN:VEVENT
DTSTART;TZID=UTC:20251003T160000
DTEND;TZID=UTC:20251003T230000
DTSTAMP:20260423T162645
CREATED:20250904T185738Z
LAST-MODIFIED:20250904T185738Z
UID:782-1759507200-1759532400@rotterdambierstad.nl
SUMMARY:Herfstbieren Festival
DESCRIPTION:Op 𝘃𝗿𝗶𝗷𝗱𝗮𝗴 𝟯 𝗼𝗸𝘁𝗼𝗯𝗲𝗿 𝟮𝟬𝟮𝟱 toveren we het buitenterrein naast de Fenix Food Factory om tot hét Rotterdamse bierwalhalla van de herfst. Van 16:00 tot 23:00 uur kun je genieten van 20 herfstige bieren van 12 Rotterdamse brouwerijen\, allemaal perfect passend bij het seizoen. \n𝗪𝗮𝘁 𝗸𝘂𝗻 𝗷𝗲 𝘃𝗲𝗿𝘄𝗮𝗰𝗵𝘁𝗲𝗻\n✅ Grote overdekte tenten (dus ook bij regen gewoon gezellig!)\n✅ Lange banken\, lekker eten en muziek\n✅ Smoked helles\, dikke stouts\, smooth red ales\, stevige barleywines\, allerlei soorten bock & meer!
URL:https://rotterdambierstad.nl/event/herfstbieren-festival/
LOCATION:Fenix Food Factory\, Nico Koomanskade 1025\, Rotterdam\, Netherlands
CATEGORIES:Herfstbier Festival
ATTACH;FMTTYPE=image/jpeg:https://rotterdambierstad.nl/wp-content/uploads/2025/09/Herfstbieren-festival-2025-Rotterdam-Bierstad.jpg
END:VEVENT
END:VCALENDAR