BEGIN:VCALENDAR
VERSION:2.0
PRODID:-//Rotterdam Bierstad - ECPv6.15.20//NONSGML v1.0//EN
CALSCALE:GREGORIAN
METHOD:PUBLISH
X-WR-CALNAME:Rotterdam Bierstad
X-ORIGINAL-URL:https://rotterdambierstad.nl
X-WR-CALDESC:Evenementen voor Rotterdam Bierstad
REFRESH-INTERVAL;VALUE=DURATION:PT1H
X-Robots-Tag:noindex
X-PUBLISHED-TTL:PT1H
BEGIN:VTIMEZONE
TZID:UTC
BEGIN:STANDARD
TZOFFSETFROM:+0000
TZOFFSETTO:+0000
TZNAME:UTC
DTSTART:20250101T000000
END:STANDARD
END:VTIMEZONE
BEGIN:VEVENT
DTSTART;TZID=UTC:20260507T150000
DTEND;TZID=UTC:20260516T200000
DTSTAMP:20260423T143717
CREATED:20260423T082559Z
LAST-MODIFIED:20260423T082559Z
UID:926-1778166000-1778961600@rotterdambierstad.nl
SUMMARY:Reijngoud bierwandeling
DESCRIPTION:Op 7\, 8\, 10\, 14\, 15 & 16 mei kun je de Reijngoud bierwandeling doen.\n\nEen Self guided bierwandeling met onderweg 3 stops waarbij je een biertje uit eigen brouwerij en een bijpassende snack krijgt.\nUiteraard kan er rekening gehouden worden met mensen die geen alcohol drinken of allergieën hebben.\nDe wandeling is ongeveer 5km duurt inclusief stops ongeveer 2 / 2.5 uur.\n\n\nStarttijd: 15:00 – 20:00\nLocatie: Startpunt is Brewpub Reijngoud\n\n\nGraag vooraf aanmelden via info@brewpubreijngoud.nl
URL:https://rotterdambierstad.nl/event/reijngoud-bierwandeling-2/
LOCATION:Brewpub Reijngoud\, Vijverhofstraat 10\, Rotterdam\, Netherlands
CATEGORIES:Biertiendaagse
END:VEVENT
END:VCALENDAR