BEGIN:VCALENDAR
VERSION:2.0
PRODID:-//Rotterdam Bierstad - ECPv6.15.20//NONSGML v1.0//EN
CALSCALE:GREGORIAN
METHOD:PUBLISH
X-WR-CALNAME:Rotterdam Bierstad
X-ORIGINAL-URL:https://rotterdambierstad.nl
X-WR-CALDESC:Evenementen voor Rotterdam Bierstad
REFRESH-INTERVAL;VALUE=DURATION:PT1H
X-Robots-Tag:noindex
X-PUBLISHED-TTL:PT1H
BEGIN:VTIMEZONE
TZID:UTC
BEGIN:STANDARD
TZOFFSETFROM:+0000
TZOFFSETTO:+0000
TZNAME:UTC
DTSTART:20250101T000000
END:STANDARD
END:VTIMEZONE
BEGIN:VEVENT
DTSTART;TZID=UTC:20260509T150000
DTEND;TZID=UTC:20260509T220000
DTSTAMP:20260423T143804
CREATED:20260423T075013Z
LAST-MODIFIED:20260423T080506Z
UID:916-1778338800-1778364000@rotterdambierstad.nl
SUMMARY:West Beerfest
DESCRIPTION:Zaterdag 9 mei organiseren we de tweede editie van WEST BEERFEST! \nTijdens de Rotterdams Bier-10daagse wordt het terras omgetoverd in een bierfestival met meerdere buiten barren bemand door Rotterdamse brouwers: ROTT\, Stadshaven\, Hoevebrugsch en Kaapse Brouwers. ⁠ \nKoop HIER je ticket voor €7\,50 en krijg naast een Westkop glas ook sokken cadeau! \n 
URL:https://rotterdambierstad.nl/event/west-beerfest/
LOCATION:Westkop\, Museumpark 35\, ROTTERDAM\, 3015CB\, Netherlands
CATEGORIES:Biertiendaagse
END:VEVENT
END:VCALENDAR